BEGIN:VCALENDAR
VERSION:2.0
PRODID:-//United Neighbors of Fall River - ECPv6.15.20//NONSGML v1.0//EN
CALSCALE:GREGORIAN
METHOD:PUBLISH
X-ORIGINAL-URL:https://unfr.org
X-WR-CALDESC:Events for United Neighbors of Fall River
REFRESH-INTERVAL;VALUE=DURATION:PT1H
X-Robots-Tag:noindex
X-PUBLISHED-TTL:PT1H
BEGIN:VTIMEZONE
TZID:America/New_York
BEGIN:DAYLIGHT
TZOFFSETFROM:-0500
TZOFFSETTO:-0400
TZNAME:EDT
DTSTART:20230312T070000
END:DAYLIGHT
BEGIN:STANDARD
TZOFFSETFROM:-0400
TZOFFSETTO:-0500
TZNAME:EST
DTSTART:20231105T060000
END:STANDARD
BEGIN:DAYLIGHT
TZOFFSETFROM:-0500
TZOFFSETTO:-0400
TZNAME:EDT
DTSTART:20240310T070000
END:DAYLIGHT
BEGIN:STANDARD
TZOFFSETFROM:-0400
TZOFFSETTO:-0500
TZNAME:EST
DTSTART:20241103T060000
END:STANDARD
BEGIN:DAYLIGHT
TZOFFSETFROM:-0500
TZOFFSETTO:-0400
TZNAME:EDT
DTSTART:20250309T070000
END:DAYLIGHT
BEGIN:STANDARD
TZOFFSETFROM:-0400
TZOFFSETTO:-0500
TZNAME:EST
DTSTART:20251102T060000
END:STANDARD
END:VTIMEZONE
BEGIN:VEVENT
DTSTART;TZID=America/New_York:20241104T130000
DTEND;TZID=America/New_York:20241104T140000
DTSTAMP:20260424T143959
CREATED:20240911T193654Z
LAST-MODIFIED:20240916T152731Z
UID:10000189-1730725200-1730728800@unfr.org
SUMMARY:Community Wellness Initiative
DESCRIPTION:Community based committee to support mental health\, suicide prevention\, and well being of the residents of Fall River. \nMeets the first Monday of the month. Contact Wendy Garf-Lipp at wendy@unfr.org for the Zoom link or tinyurl.com/unfrwellness \nNo meeting in September (Labor Day); 10/7\, 11/4\, 12/2\, 1/6\, 2/3\, 3/3\, 4/7\, 5/5\, 6/2; no meeting in July and August.
URL:https://unfr.org/event/community-wellness-initiative-2/2024-11-04/
LOCATION:Zoom
ATTACH;FMTTYPE=image/jpeg:https://unfr.org/wp-content/uploads/2024/09/UN-Community-Wellness.jpg
ORGANIZER;CN="United Neighbors of Fall River":MAILTO:kerrie@unfr.org
END:VEVENT
BEGIN:VEVENT
DTSTART;TZID=America/New_York:20241107T100000
DTEND;TZID=America/New_York:20241107T110000
DTSTAMP:20260424T143959
CREATED:20240729T172708Z
LAST-MODIFIED:20240916T152756Z
UID:10000172-1730973600-1730977200@unfr.org
SUMMARY:Coalition Against Period Poverty (CAPP)
DESCRIPTION:The Coalition Against Period Poverty works on assuring that all menstruators have free and dignified access to menstrual products in schools\, shelters\, jails\, and public facilities. Flow Justice\, a sub-committee of CAPP\, provides access to menstrual hygiene products and educates youth and adults on menstrual health\, access\, and equity. \nCurrently meets monthly on the first Thursday at 10:00am. Email wendy@unfr.org for the Zoom link. \nYou can learn more about the work CAPP does and download menstrual equity resources here.
URL:https://unfr.org/event/capp-2/2024-11-07/
LOCATION:Zoom
ATTACH;FMTTYPE=image/jpeg:https://unfr.org/wp-content/uploads/2024/09/UN-CAPP.jpg
ORGANIZER;CN="United Neighbors of Fall River":MAILTO:kerrie@unfr.org
END:VEVENT
BEGIN:VEVENT
DTSTART;TZID=America/New_York:20241119T180000
DTEND;TZID=America/New_York:20241119T193000
DTSTAMP:20260424T143959
CREATED:20241106T195807Z
LAST-MODIFIED:20241106T195807Z
UID:10000204-1732039200-1732044600@unfr.org
SUMMARY:Balanced Learning Center's Empowerment Through Understanding Workshop
DESCRIPTION:Join Balanced Learning Center throughout the 2024-2025 school year in our Empowerment Through Understanding Workshop Series. Our November workshop topic is Calm Minds\, Confident Hearts: Strategies for Reducing Anxiety in Kids. \nWhen: Tuesday\, November\, 19\, 2024 from 6:00 PM – 7:30 PM\nWhere: Held via Zoom (registration required)\nCost: Free\, but donations are greatly appreciated.\nQuestions: Please contact Allie Curry at group.programsBLC@gmail.com
URL:https://unfr.org/event/balanced-learning-centers-empowerment-through-understanding-workshop/
ATTACH;FMTTYPE=image/png:https://unfr.org/wp-content/uploads/2024/10/2024-2025-Workshop-Series.png
END:VEVENT
END:VCALENDAR