BEGIN:VCALENDAR
VERSION:2.0
PRODID:-//United Neighbors of Fall River - ECPv6.15.20//NONSGML v1.0//EN
CALSCALE:GREGORIAN
METHOD:PUBLISH
X-WR-CALNAME:United Neighbors of Fall River
X-ORIGINAL-URL:https://unfr.org
X-WR-CALDESC:Events for United Neighbors of Fall River
REFRESH-INTERVAL;VALUE=DURATION:PT1H
X-Robots-Tag:noindex
X-PUBLISHED-TTL:PT1H
BEGIN:VTIMEZONE
TZID:America/New_York
BEGIN:DAYLIGHT
TZOFFSETFROM:-0500
TZOFFSETTO:-0400
TZNAME:EDT
DTSTART:20230312T070000
END:DAYLIGHT
BEGIN:STANDARD
TZOFFSETFROM:-0400
TZOFFSETTO:-0500
TZNAME:EST
DTSTART:20231105T060000
END:STANDARD
BEGIN:DAYLIGHT
TZOFFSETFROM:-0500
TZOFFSETTO:-0400
TZNAME:EDT
DTSTART:20240310T070000
END:DAYLIGHT
BEGIN:STANDARD
TZOFFSETFROM:-0400
TZOFFSETTO:-0500
TZNAME:EST
DTSTART:20241103T060000
END:STANDARD
BEGIN:DAYLIGHT
TZOFFSETFROM:-0500
TZOFFSETTO:-0400
TZNAME:EDT
DTSTART:20250309T070000
END:DAYLIGHT
BEGIN:STANDARD
TZOFFSETFROM:-0400
TZOFFSETTO:-0500
TZNAME:EST
DTSTART:20251102T060000
END:STANDARD
END:VTIMEZONE
BEGIN:VEVENT
DTSTART;TZID=America/New_York:20241202T130000
DTEND;TZID=America/New_York:20241202T140000
DTSTAMP:20260421T134558
CREATED:20240911T193654Z
LAST-MODIFIED:20240916T152731Z
UID:10000190-1733144400-1733148000@unfr.org
SUMMARY:Community Wellness Initiative
DESCRIPTION:Community based committee to support mental health\, suicide prevention\, and well being of the residents of Fall River. \nMeets the first Monday of the month. Contact Wendy Garf-Lipp at wendy@unfr.org for the Zoom link or tinyurl.com/unfrwellness \nNo meeting in September (Labor Day); 10/7\, 11/4\, 12/2\, 1/6\, 2/3\, 3/3\, 4/7\, 5/5\, 6/2; no meeting in July and August.
URL:https://unfr.org/event/community-wellness-initiative-2/2024-12-02/
LOCATION:Zoom
ATTACH;FMTTYPE=image/jpeg:https://unfr.org/wp-content/uploads/2024/09/UN-Community-Wellness.jpg
ORGANIZER;CN="United Neighbors of Fall River":MAILTO:kerrie@unfr.org
END:VEVENT
BEGIN:VEVENT
DTSTART;TZID=America/New_York:20241205T100000
DTEND;TZID=America/New_York:20241205T110000
DTSTAMP:20260421T134558
CREATED:20240729T172708Z
LAST-MODIFIED:20240916T152756Z
UID:10000173-1733392800-1733396400@unfr.org
SUMMARY:Coalition Against Period Poverty (CAPP)
DESCRIPTION:The Coalition Against Period Poverty works on assuring that all menstruators have free and dignified access to menstrual products in schools\, shelters\, jails\, and public facilities. Flow Justice\, a sub-committee of CAPP\, provides access to menstrual hygiene products and educates youth and adults on menstrual health\, access\, and equity. \nCurrently meets monthly on the first Thursday at 10:00am. Email wendy@unfr.org for the Zoom link. \nYou can learn more about the work CAPP does and download menstrual equity resources here.
URL:https://unfr.org/event/capp-2/2024-12-05/
LOCATION:Zoom
ATTACH;FMTTYPE=image/jpeg:https://unfr.org/wp-content/uploads/2024/09/UN-CAPP.jpg
ORGANIZER;CN="United Neighbors of Fall River":MAILTO:kerrie@unfr.org
END:VEVENT
BEGIN:VEVENT
DTSTART;TZID=America/New_York:20241211T173000
DTEND;TZID=America/New_York:20241211T190000
DTSTAMP:20260421T134558
CREATED:20241213T201220Z
LAST-MODIFIED:20241213T201220Z
UID:10000209-1733938200-1733943600@unfr.org
SUMMARY:Foster Parent Informational meetings
DESCRIPTION:The Department of Children and Families is actively recruiting foster parents for children in your community and surrounding areas. \nOur goal is to provide our foster children with a supportive and healing environment in a home in their own community until they can be reunited with their families\, or another plan can be made on their behalf. \nIf you are thinking about becoming a foster parent\, you can learn more about the application process and the supports provided by the Department by attending an informational meeting\, checking out our Foster MA web page\, or contacting me\, Fatima Sequeira or our foster parent ambassador Jackie DaCosta directly:\nFatima Sequeira Jackie DaCosta\nFoster Family Recruiter Foster Parent Ambassador\n(508) 894-3841 (508) 415-9215\nFatima.sequeira@mass.gov jdcdcf@comcast.net
URL:https://unfr.org/event/foster-parent-informational-meetings/2024-12-11/
LOCATION:Address will be disclosed via email following registration\, Through email\, Fall River\, MA\, 02720
ATTACH;FMTTYPE=image/png:https://unfr.org/wp-content/uploads/2024/12/foser-care-logo-2.png
ORGANIZER;CN="Department of Children &amp%3B Families":MAILTO:fatima.sequeira@mass.gov
END:VEVENT
BEGIN:VEVENT
DTSTART;TZID=America/New_York:20241219T170000
DTEND;TZID=America/New_York:20241219T190000
DTSTAMP:20260421T134558
CREATED:20241213T201006Z
LAST-MODIFIED:20241213T201006Z
UID:10000272-1734627600-1734634800@unfr.org
SUMMARY:Christmas Ornament Making
DESCRIPTION:Make your own Christmas Ornaments from Apple Sauce and Cinnamon.\nFREE event for the whole family!
URL:https://unfr.org/event/christmas-ornament-making/
LOCATION:Family Resource Center\, 45 Rock Street\, Fall River\, MA\, 02720\, United States
ATTACH;FMTTYPE=image/jpeg:https://unfr.org/wp-content/uploads/2024/12/Family-Resource-Center-Presents-scaled.jpg
END:VEVENT
BEGIN:VEVENT
DTSTART;TZID=America/New_York:20241228T123000
DTEND;TZID=America/New_York:20241228T143000
DTSTAMP:20260421T134558
CREATED:20241213T200936Z
LAST-MODIFIED:20241213T200936Z
UID:10000273-1735389000-1735396200@unfr.org
SUMMARY:Community Kwanzaa Sewing Workshop
DESCRIPTION:Craft Your Own Ujimaa-Inspired Table Runner at Our Workshop! \nIn the city of textiles join us for an interactive and festive experience as we celebrate the Kwanzaa principle of Ujimaa (collective work and responsibility). \nThis workshop is more than just creating a beautiful table runner – it’s a chance to come together\, share love\, laughter\, and delightful food while embodying the spirit of unity and shared responsibility.\nDon’t miss out on this joyous occasion of creativity and community building! Participants will learn sewing and embroidery techniques while creating their specially designed table runner. \nThe event is free and open to the public. Children ages 6+ must be accompanied by an adult. Supplies are limited \nThis program is made possible by a grant from the Massachusetts Cultural Council (MCC).
URL:https://unfr.org/event/community-kwanzaa-sewing-workshop/
LOCATION:Fall River Heritage State Park\, 100 Davol St.\, Fall River
ATTACH;FMTTYPE=image/jpeg:https://unfr.org/wp-content/uploads/2024/12/2024-Kwanzaa-Table-Runner-1-scaled.jpg
ORGANIZER;CN="Bristol Black Collective":MAILTO:info@bristolblackcollective.org
END:VEVENT
END:VCALENDAR