BEGIN:VCALENDAR
VERSION:2.0
PRODID:-//United Neighbors of Fall River - ECPv6.15.20//NONSGML v1.0//EN
CALSCALE:GREGORIAN
METHOD:PUBLISH
X-WR-CALNAME:United Neighbors of Fall River
X-ORIGINAL-URL:https://unfr.org
X-WR-CALDESC:Events for United Neighbors of Fall River
REFRESH-INTERVAL;VALUE=DURATION:PT1H
X-Robots-Tag:noindex
X-PUBLISHED-TTL:PT1H
BEGIN:VTIMEZONE
TZID:America/New_York
BEGIN:DAYLIGHT
TZOFFSETFROM:-0500
TZOFFSETTO:-0400
TZNAME:EDT
DTSTART:20230312T070000
END:DAYLIGHT
BEGIN:STANDARD
TZOFFSETFROM:-0400
TZOFFSETTO:-0500
TZNAME:EST
DTSTART:20231105T060000
END:STANDARD
BEGIN:DAYLIGHT
TZOFFSETFROM:-0500
TZOFFSETTO:-0400
TZNAME:EDT
DTSTART:20240310T070000
END:DAYLIGHT
BEGIN:STANDARD
TZOFFSETFROM:-0400
TZOFFSETTO:-0500
TZNAME:EST
DTSTART:20241103T060000
END:STANDARD
BEGIN:DAYLIGHT
TZOFFSETFROM:-0500
TZOFFSETTO:-0400
TZNAME:EDT
DTSTART:20250309T070000
END:DAYLIGHT
BEGIN:STANDARD
TZOFFSETFROM:-0400
TZOFFSETTO:-0500
TZNAME:EST
DTSTART:20251102T060000
END:STANDARD
BEGIN:DAYLIGHT
TZOFFSETFROM:-0500
TZOFFSETTO:-0400
TZNAME:EDT
DTSTART:20260308T070000
END:DAYLIGHT
BEGIN:STANDARD
TZOFFSETFROM:-0400
TZOFFSETTO:-0500
TZNAME:EST
DTSTART:20261101T060000
END:STANDARD
END:VTIMEZONE
BEGIN:VEVENT
DTSTART;TZID=America/New_York:20251120T173000
DTEND;TZID=America/New_York:20251120T190000
DTSTAMP:20260419T124258
CREATED:20250906T130111Z
LAST-MODIFIED:20250906T130206Z
UID:10000401-1763659800-1763665200@unfr.org
SUMMARY:Games with Guys
DESCRIPTION:Join the family Resource Center for a night of Games with Guys! Free and open to all children and their father figures. For more information and to register contact Cory Silva at 508-567-1735 or csilva@frfsa.org. \nLearn more about the Family Resource Center here.
URL:https://unfr.org/event/games-with-guys-2/2025-11-20/
LOCATION:Family Resource Center\, 45 Rock Street\, Fall River\, MA\, 02720\, United States
ATTACH;FMTTYPE=image/jpeg:https://unfr.org/wp-content/uploads/2024/11/FRC-Games-Guys.jpg
END:VEVENT
BEGIN:VEVENT
DTSTART;TZID=America/New_York:20251016T173000
DTEND;TZID=America/New_York:20251016T190000
DTSTAMP:20260419T124258
CREATED:20250906T130111Z
LAST-MODIFIED:20250906T130206Z
UID:10000400-1760635800-1760641200@unfr.org
SUMMARY:Games with Guys
DESCRIPTION:Join the family Resource Center for a night of Games with Guys! Free and open to all children and their father figures. For more information and to register contact Cory Silva at 508-567-1735 or csilva@frfsa.org. \nLearn more about the Family Resource Center here.
URL:https://unfr.org/event/games-with-guys-2/2025-10-16/
LOCATION:Family Resource Center\, 45 Rock Street\, Fall River\, MA\, 02720\, United States
ATTACH;FMTTYPE=image/jpeg:https://unfr.org/wp-content/uploads/2024/11/FRC-Games-Guys.jpg
END:VEVENT
BEGIN:VEVENT
DTSTART;TZID=America/New_York:20250918T173000
DTEND;TZID=America/New_York:20250918T190000
DTSTAMP:20260419T124258
CREATED:20250906T130111Z
LAST-MODIFIED:20250906T130206Z
UID:10000399-1758216600-1758222000@unfr.org
SUMMARY:Games with Guys
DESCRIPTION:Join the family Resource Center for a night of Games with Guys! Free and open to all children and their father figures. For more information and to register contact Cory Silva at 508-567-1735 or csilva@frfsa.org. \nLearn more about the Family Resource Center here.
URL:https://unfr.org/event/games-with-guys-2/2025-09-18/
LOCATION:Family Resource Center\, 45 Rock Street\, Fall River\, MA\, 02720\, United States
ATTACH;FMTTYPE=image/jpeg:https://unfr.org/wp-content/uploads/2024/11/FRC-Games-Guys.jpg
END:VEVENT
BEGIN:VEVENT
DTSTART;TZID=America/New_York:20250821T173000
DTEND;TZID=America/New_York:20250821T190000
DTSTAMP:20260419T124258
CREATED:20250906T130111Z
LAST-MODIFIED:20250906T130206Z
UID:10000398-1755797400-1755802800@unfr.org
SUMMARY:Games with Guys
DESCRIPTION:Join the family Resource Center for a night of Games with Guys! Free and open to all children and their father figures. For more information and to register contact Cory Silva at 508-567-1735 or csilva@frfsa.org. \nLearn more about the Family Resource Center here.
URL:https://unfr.org/event/games-with-guys-2/2025-08-21/
LOCATION:Family Resource Center\, 45 Rock Street\, Fall River\, MA\, 02720\, United States
ATTACH;FMTTYPE=image/jpeg:https://unfr.org/wp-content/uploads/2024/11/FRC-Games-Guys.jpg
END:VEVENT
BEGIN:VEVENT
DTSTART;TZID=America/New_York:20250717T173000
DTEND;TZID=America/New_York:20250717T190000
DTSTAMP:20260419T124258
CREATED:20250906T130111Z
LAST-MODIFIED:20250906T130206Z
UID:10000397-1752773400-1752778800@unfr.org
SUMMARY:Games with Guys
DESCRIPTION:Join the family Resource Center for a night of Games with Guys! Free and open to all children and their father figures. For more information and to register contact Cory Silva at 508-567-1735 or csilva@frfsa.org. \nLearn more about the Family Resource Center here.
URL:https://unfr.org/event/games-with-guys-2/2025-07-17/
LOCATION:Family Resource Center\, 45 Rock Street\, Fall River\, MA\, 02720\, United States
ATTACH;FMTTYPE=image/jpeg:https://unfr.org/wp-content/uploads/2024/11/FRC-Games-Guys.jpg
END:VEVENT
BEGIN:VEVENT
DTSTART;TZID=America/New_York:20250619T173000
DTEND;TZID=America/New_York:20250619T190000
DTSTAMP:20260419T124258
CREATED:20250906T130111Z
LAST-MODIFIED:20250906T130206Z
UID:10000295-1750354200-1750359600@unfr.org
SUMMARY:Games with Guys
DESCRIPTION:Join the family Resource Center for a night of Games with Guys! Free and open to all children and their father figures. For more information and to register contact Cory Silva at 508-567-1735 or csilva@frfsa.org. \nLearn more about the Family Resource Center here.
URL:https://unfr.org/event/games-with-guys-2/2025-06-19/
LOCATION:Family Resource Center\, 45 Rock Street\, Fall River\, MA\, 02720\, United States
ATTACH;FMTTYPE=image/jpeg:https://unfr.org/wp-content/uploads/2024/11/FRC-Games-Guys.jpg
END:VEVENT
BEGIN:VEVENT
DTSTART;TZID=America/New_York:20250612T173000
DTEND;TZID=America/New_York:20250612T183000
DTSTAMP:20260419T124258
CREATED:20241106T202450Z
LAST-MODIFIED:20241213T205218Z
UID:10000301-1749749400-1749753000@unfr.org
SUMMARY:Budgeting 101
DESCRIPTION:Join the Family Resource Center for this free workshop and learn what is a budget; how to define a budget; ideas about budgets; how to balance a checking account; and tips to save. For more information contact Cory Silva at 508-567-0735 or csilva@frfsa.org \nLearn more about the Family Resource Center here.
URL:https://unfr.org/event/budgeting-101/2025-06-12/
LOCATION:Family Resource Center\, 45 Rock Street\, Fall River\, MA\, 02720\, United States
ATTACH;FMTTYPE=image/jpeg:https://unfr.org/wp-content/uploads/2024/11/FRC-Budget-101.jpg
END:VEVENT
BEGIN:VEVENT
DTSTART;TZID=America/New_York:20250610T173000
DTEND;TZID=America/New_York:20250610T190000
DTSTAMP:20260419T124258
CREATED:20241106T202653Z
LAST-MODIFIED:20241213T205303Z
UID:10000307-1749576600-1749582000@unfr.org
SUMMARY:Bingo Games
DESCRIPTION:Join the Family Resource Center for free Bingo! There will be prizes\, food\, and fun for the whole family! For more information contact Jaimie Rose at 508-567-1735 or jrose@frfsa.org. \nLearn more about the Family Resource Center here.
URL:https://unfr.org/event/bingo-games/2025-06-10/
LOCATION:Family Resource Center\, 45 Rock Street\, Fall River\, MA\, 02720\, United States
ATTACH;FMTTYPE=image/jpeg:https://unfr.org/wp-content/uploads/2024/11/FRC-Bingo.jpg
END:VEVENT
BEGIN:VEVENT
DTSTART;TZID=America/New_York:20250605T170000
DTEND;TZID=America/New_York:20250605T180000
DTSTAMP:20260419T124258
CREATED:20241106T202945Z
LAST-MODIFIED:20241213T205032Z
UID:10000289-1749142800-1749146400@unfr.org
SUMMARY:Housing 101
DESCRIPTION:Join the Family Resource Center for this free Housing 101 workshop. For more information contact Cory Silva at 508-567-1735 or csilva@frfsa.org. \nThe Family Resource Center works with parents\, children\, teens\, grandparents\, guardians\, caregivers and any other family member or member of the community who may be involved with the family. Staff at the FRC can assess the needs of the family members\, recommend services\, and help with access to other community services if needed. \nLearn more about the Family Resource Center here.
URL:https://unfr.org/event/housing-101/2025-06-05/
LOCATION:Family Resource Center\, 45 Rock Street\, Fall River\, MA\, 02720\, United States
ATTACH;FMTTYPE=image/jpeg:https://unfr.org/wp-content/uploads/2024/11/FRC-Housing-101.jpg
END:VEVENT
BEGIN:VEVENT
DTSTART;TZID=America/New_York:20250515T173000
DTEND;TZID=America/New_York:20250515T190000
DTSTAMP:20260419T124258
CREATED:20241106T202814Z
LAST-MODIFIED:20241213T205129Z
UID:10000294-1747330200-1747335600@unfr.org
SUMMARY:Games with Guys
DESCRIPTION:Join the family Resource Center for a night of Games with Guys! Free and open to all children and their father figures. For more information and to register contact Cory Silva at 508-567-1735 or csilva@frfsa.org. \nLearn more about the Family Resource Center here.
URL:https://unfr.org/event/games-with-guys/2025-05-15/
LOCATION:Family Resource Center\, 45 Rock Street\, Fall River\, MA\, 02720\, United States
ATTACH;FMTTYPE=image/jpeg:https://unfr.org/wp-content/uploads/2024/11/FRC-Games-Guys.jpg
END:VEVENT
BEGIN:VEVENT
DTSTART;TZID=America/New_York:20250513T173000
DTEND;TZID=America/New_York:20250513T190000
DTSTAMP:20260419T124258
CREATED:20241106T202653Z
LAST-MODIFIED:20241213T205303Z
UID:10000306-1747157400-1747162800@unfr.org
SUMMARY:Bingo Games
DESCRIPTION:Join the Family Resource Center for free Bingo! There will be prizes\, food\, and fun for the whole family! For more information contact Jaimie Rose at 508-567-1735 or jrose@frfsa.org. \nLearn more about the Family Resource Center here.
URL:https://unfr.org/event/bingo-games/2025-05-13/
LOCATION:Family Resource Center\, 45 Rock Street\, Fall River\, MA\, 02720\, United States
ATTACH;FMTTYPE=image/jpeg:https://unfr.org/wp-content/uploads/2024/11/FRC-Bingo.jpg
END:VEVENT
BEGIN:VEVENT
DTSTART;TZID=America/New_York:20250508T173000
DTEND;TZID=America/New_York:20250508T183000
DTSTAMP:20260419T124258
CREATED:20241106T202450Z
LAST-MODIFIED:20241213T205218Z
UID:10000300-1746725400-1746729000@unfr.org
SUMMARY:Budgeting 101
DESCRIPTION:Join the Family Resource Center for this free workshop and learn what is a budget; how to define a budget; ideas about budgets; how to balance a checking account; and tips to save. For more information contact Cory Silva at 508-567-0735 or csilva@frfsa.org \nLearn more about the Family Resource Center here.
URL:https://unfr.org/event/budgeting-101/2025-05-08/
LOCATION:Family Resource Center\, 45 Rock Street\, Fall River\, MA\, 02720\, United States
ATTACH;FMTTYPE=image/jpeg:https://unfr.org/wp-content/uploads/2024/11/FRC-Budget-101.jpg
END:VEVENT
BEGIN:VEVENT
DTSTART;TZID=America/New_York:20250501T170000
DTEND;TZID=America/New_York:20250501T180000
DTSTAMP:20260419T124258
CREATED:20241106T202945Z
LAST-MODIFIED:20241213T205032Z
UID:10000288-1746118800-1746122400@unfr.org
SUMMARY:Housing 101
DESCRIPTION:Join the Family Resource Center for this free Housing 101 workshop. For more information contact Cory Silva at 508-567-1735 or csilva@frfsa.org. \nThe Family Resource Center works with parents\, children\, teens\, grandparents\, guardians\, caregivers and any other family member or member of the community who may be involved with the family. Staff at the FRC can assess the needs of the family members\, recommend services\, and help with access to other community services if needed. \nLearn more about the Family Resource Center here.
URL:https://unfr.org/event/housing-101/2025-05-01/
LOCATION:Family Resource Center\, 45 Rock Street\, Fall River\, MA\, 02720\, United States
ATTACH;FMTTYPE=image/jpeg:https://unfr.org/wp-content/uploads/2024/11/FRC-Housing-101.jpg
END:VEVENT
BEGIN:VEVENT
DTSTART;TZID=America/New_York:20250417T173000
DTEND;TZID=America/New_York:20250417T190000
DTSTAMP:20260419T124258
CREATED:20241106T202814Z
LAST-MODIFIED:20241213T205129Z
UID:10000293-1744911000-1744916400@unfr.org
SUMMARY:Games with Guys
DESCRIPTION:Join the family Resource Center for a night of Games with Guys! Free and open to all children and their father figures. For more information and to register contact Cory Silva at 508-567-1735 or csilva@frfsa.org. \nLearn more about the Family Resource Center here.
URL:https://unfr.org/event/games-with-guys/2025-04-17/
LOCATION:Family Resource Center\, 45 Rock Street\, Fall River\, MA\, 02720\, United States
ATTACH;FMTTYPE=image/jpeg:https://unfr.org/wp-content/uploads/2024/11/FRC-Games-Guys.jpg
END:VEVENT
BEGIN:VEVENT
DTSTART;TZID=America/New_York:20250410T173000
DTEND;TZID=America/New_York:20250410T183000
DTSTAMP:20260419T124258
CREATED:20241106T202450Z
LAST-MODIFIED:20241213T205218Z
UID:10000299-1744306200-1744309800@unfr.org
SUMMARY:Budgeting 101
DESCRIPTION:Join the Family Resource Center for this free workshop and learn what is a budget; how to define a budget; ideas about budgets; how to balance a checking account; and tips to save. For more information contact Cory Silva at 508-567-0735 or csilva@frfsa.org \nLearn more about the Family Resource Center here.
URL:https://unfr.org/event/budgeting-101/2025-04-10/
LOCATION:Family Resource Center\, 45 Rock Street\, Fall River\, MA\, 02720\, United States
ATTACH;FMTTYPE=image/jpeg:https://unfr.org/wp-content/uploads/2024/11/FRC-Budget-101.jpg
END:VEVENT
BEGIN:VEVENT
DTSTART;TZID=America/New_York:20250408T173000
DTEND;TZID=America/New_York:20250408T190000
DTSTAMP:20260419T124258
CREATED:20241106T202653Z
LAST-MODIFIED:20241213T205303Z
UID:10000305-1744133400-1744138800@unfr.org
SUMMARY:Bingo Games
DESCRIPTION:Join the Family Resource Center for free Bingo! There will be prizes\, food\, and fun for the whole family! For more information contact Jaimie Rose at 508-567-1735 or jrose@frfsa.org. \nLearn more about the Family Resource Center here.
URL:https://unfr.org/event/bingo-games/2025-04-08/
LOCATION:Family Resource Center\, 45 Rock Street\, Fall River\, MA\, 02720\, United States
ATTACH;FMTTYPE=image/jpeg:https://unfr.org/wp-content/uploads/2024/11/FRC-Bingo.jpg
END:VEVENT
BEGIN:VEVENT
DTSTART;TZID=America/New_York:20250403T170000
DTEND;TZID=America/New_York:20250403T180000
DTSTAMP:20260419T124258
CREATED:20241106T202945Z
LAST-MODIFIED:20241213T205032Z
UID:10000287-1743699600-1743703200@unfr.org
SUMMARY:Housing 101
DESCRIPTION:Join the Family Resource Center for this free Housing 101 workshop. For more information contact Cory Silva at 508-567-1735 or csilva@frfsa.org. \nThe Family Resource Center works with parents\, children\, teens\, grandparents\, guardians\, caregivers and any other family member or member of the community who may be involved with the family. Staff at the FRC can assess the needs of the family members\, recommend services\, and help with access to other community services if needed. \nLearn more about the Family Resource Center here.
URL:https://unfr.org/event/housing-101/2025-04-03/
LOCATION:Family Resource Center\, 45 Rock Street\, Fall River\, MA\, 02720\, United States
ATTACH;FMTTYPE=image/jpeg:https://unfr.org/wp-content/uploads/2024/11/FRC-Housing-101.jpg
END:VEVENT
BEGIN:VEVENT
DTSTART;TZID=America/New_York:20250320T173000
DTEND;TZID=America/New_York:20250320T190000
DTSTAMP:20260419T124258
CREATED:20241106T202814Z
LAST-MODIFIED:20241213T205129Z
UID:10000292-1742491800-1742497200@unfr.org
SUMMARY:Games with Guys
DESCRIPTION:Join the family Resource Center for a night of Games with Guys! Free and open to all children and their father figures. For more information and to register contact Cory Silva at 508-567-1735 or csilva@frfsa.org. \nLearn more about the Family Resource Center here.
URL:https://unfr.org/event/games-with-guys/2025-03-20/
LOCATION:Family Resource Center\, 45 Rock Street\, Fall River\, MA\, 02720\, United States
ATTACH;FMTTYPE=image/jpeg:https://unfr.org/wp-content/uploads/2024/11/FRC-Games-Guys.jpg
END:VEVENT
BEGIN:VEVENT
DTSTART;TZID=America/New_York:20250313T173000
DTEND;TZID=America/New_York:20250313T183000
DTSTAMP:20260419T124258
CREATED:20241106T202450Z
LAST-MODIFIED:20241213T205218Z
UID:10000298-1741887000-1741890600@unfr.org
SUMMARY:Budgeting 101
DESCRIPTION:Join the Family Resource Center for this free workshop and learn what is a budget; how to define a budget; ideas about budgets; how to balance a checking account; and tips to save. For more information contact Cory Silva at 508-567-0735 or csilva@frfsa.org \nLearn more about the Family Resource Center here.
URL:https://unfr.org/event/budgeting-101/2025-03-13/
LOCATION:Family Resource Center\, 45 Rock Street\, Fall River\, MA\, 02720\, United States
ATTACH;FMTTYPE=image/jpeg:https://unfr.org/wp-content/uploads/2024/11/FRC-Budget-101.jpg
END:VEVENT
BEGIN:VEVENT
DTSTART;TZID=America/New_York:20250311T173000
DTEND;TZID=America/New_York:20250311T190000
DTSTAMP:20260419T124258
CREATED:20241106T202653Z
LAST-MODIFIED:20241213T205303Z
UID:10000304-1741714200-1741719600@unfr.org
SUMMARY:Bingo Games
DESCRIPTION:Join the Family Resource Center for free Bingo! There will be prizes\, food\, and fun for the whole family! For more information contact Jaimie Rose at 508-567-1735 or jrose@frfsa.org. \nLearn more about the Family Resource Center here.
URL:https://unfr.org/event/bingo-games/2025-03-11/
LOCATION:Family Resource Center\, 45 Rock Street\, Fall River\, MA\, 02720\, United States
ATTACH;FMTTYPE=image/jpeg:https://unfr.org/wp-content/uploads/2024/11/FRC-Bingo.jpg
END:VEVENT
BEGIN:VEVENT
DTSTART;TZID=America/New_York:20250306T170000
DTEND;TZID=America/New_York:20250306T180000
DTSTAMP:20260419T124258
CREATED:20241106T202945Z
LAST-MODIFIED:20241213T205032Z
UID:10000286-1741280400-1741284000@unfr.org
SUMMARY:Housing 101
DESCRIPTION:Join the Family Resource Center for this free Housing 101 workshop. For more information contact Cory Silva at 508-567-1735 or csilva@frfsa.org. \nThe Family Resource Center works with parents\, children\, teens\, grandparents\, guardians\, caregivers and any other family member or member of the community who may be involved with the family. Staff at the FRC can assess the needs of the family members\, recommend services\, and help with access to other community services if needed. \nLearn more about the Family Resource Center here.
URL:https://unfr.org/event/housing-101/2025-03-06/
LOCATION:Family Resource Center\, 45 Rock Street\, Fall River\, MA\, 02720\, United States
ATTACH;FMTTYPE=image/jpeg:https://unfr.org/wp-content/uploads/2024/11/FRC-Housing-101.jpg
END:VEVENT
BEGIN:VEVENT
DTSTART;TZID=America/New_York:20250220T173000
DTEND;TZID=America/New_York:20250220T190000
DTSTAMP:20260419T124258
CREATED:20241106T202814Z
LAST-MODIFIED:20241213T205129Z
UID:10000291-1740072600-1740078000@unfr.org
SUMMARY:Games with Guys
DESCRIPTION:Join the family Resource Center for a night of Games with Guys! Free and open to all children and their father figures. For more information and to register contact Cory Silva at 508-567-1735 or csilva@frfsa.org. \nLearn more about the Family Resource Center here.
URL:https://unfr.org/event/games-with-guys/2025-02-20/
LOCATION:Family Resource Center\, 45 Rock Street\, Fall River\, MA\, 02720\, United States
ATTACH;FMTTYPE=image/jpeg:https://unfr.org/wp-content/uploads/2024/11/FRC-Games-Guys.jpg
END:VEVENT
BEGIN:VEVENT
DTSTART;TZID=America/New_York:20250213T173000
DTEND;TZID=America/New_York:20250213T183000
DTSTAMP:20260419T124258
CREATED:20241106T202450Z
LAST-MODIFIED:20241213T205218Z
UID:10000297-1739467800-1739471400@unfr.org
SUMMARY:Budgeting 101
DESCRIPTION:Join the Family Resource Center for this free workshop and learn what is a budget; how to define a budget; ideas about budgets; how to balance a checking account; and tips to save. For more information contact Cory Silva at 508-567-0735 or csilva@frfsa.org \nLearn more about the Family Resource Center here.
URL:https://unfr.org/event/budgeting-101/2025-02-13/
LOCATION:Family Resource Center\, 45 Rock Street\, Fall River\, MA\, 02720\, United States
ATTACH;FMTTYPE=image/jpeg:https://unfr.org/wp-content/uploads/2024/11/FRC-Budget-101.jpg
END:VEVENT
BEGIN:VEVENT
DTSTART;TZID=America/New_York:20250211T173000
DTEND;TZID=America/New_York:20250211T190000
DTSTAMP:20260419T124258
CREATED:20241106T202653Z
LAST-MODIFIED:20241213T205303Z
UID:10000303-1739295000-1739300400@unfr.org
SUMMARY:Bingo Games
DESCRIPTION:Join the Family Resource Center for free Bingo! There will be prizes\, food\, and fun for the whole family! For more information contact Jaimie Rose at 508-567-1735 or jrose@frfsa.org. \nLearn more about the Family Resource Center here.
URL:https://unfr.org/event/bingo-games/2025-02-11/
LOCATION:Family Resource Center\, 45 Rock Street\, Fall River\, MA\, 02720\, United States
ATTACH;FMTTYPE=image/jpeg:https://unfr.org/wp-content/uploads/2024/11/FRC-Bingo.jpg
END:VEVENT
BEGIN:VEVENT
DTSTART;TZID=America/New_York:20250206T170000
DTEND;TZID=America/New_York:20250206T180000
DTSTAMP:20260419T124258
CREATED:20241106T202945Z
LAST-MODIFIED:20241213T205032Z
UID:10000285-1738861200-1738864800@unfr.org
SUMMARY:Housing 101
DESCRIPTION:Join the Family Resource Center for this free Housing 101 workshop. For more information contact Cory Silva at 508-567-1735 or csilva@frfsa.org. \nThe Family Resource Center works with parents\, children\, teens\, grandparents\, guardians\, caregivers and any other family member or member of the community who may be involved with the family. Staff at the FRC can assess the needs of the family members\, recommend services\, and help with access to other community services if needed. \nLearn more about the Family Resource Center here.
URL:https://unfr.org/event/housing-101/2025-02-06/
LOCATION:Family Resource Center\, 45 Rock Street\, Fall River\, MA\, 02720\, United States
ATTACH;FMTTYPE=image/jpeg:https://unfr.org/wp-content/uploads/2024/11/FRC-Housing-101.jpg
END:VEVENT
BEGIN:VEVENT
DTSTART;TZID=America/New_York:20250116T173000
DTEND;TZID=America/New_York:20250116T190000
DTSTAMP:20260419T124258
CREATED:20241106T202814Z
LAST-MODIFIED:20241213T205129Z
UID:10000290-1737048600-1737054000@unfr.org
SUMMARY:Games with Guys
DESCRIPTION:Join the family Resource Center for a night of Games with Guys! Free and open to all children and their father figures. For more information and to register contact Cory Silva at 508-567-1735 or csilva@frfsa.org. \nLearn more about the Family Resource Center here.
URL:https://unfr.org/event/games-with-guys/2025-01-16/
LOCATION:Family Resource Center\, 45 Rock Street\, Fall River\, MA\, 02720\, United States
ATTACH;FMTTYPE=image/jpeg:https://unfr.org/wp-content/uploads/2024/11/FRC-Games-Guys.jpg
END:VEVENT
BEGIN:VEVENT
DTSTART;TZID=America/New_York:20250114T173000
DTEND;TZID=America/New_York:20250114T190000
DTSTAMP:20260419T124258
CREATED:20241106T202653Z
LAST-MODIFIED:20241213T205303Z
UID:10000302-1736875800-1736881200@unfr.org
SUMMARY:Bingo Games
DESCRIPTION:Join the Family Resource Center for free Bingo! There will be prizes\, food\, and fun for the whole family! For more information contact Jaimie Rose at 508-567-1735 or jrose@frfsa.org. \nLearn more about the Family Resource Center here.
URL:https://unfr.org/event/bingo-games/2025-01-14/
LOCATION:Family Resource Center\, 45 Rock Street\, Fall River\, MA\, 02720\, United States
ATTACH;FMTTYPE=image/jpeg:https://unfr.org/wp-content/uploads/2024/11/FRC-Bingo.jpg
END:VEVENT
BEGIN:VEVENT
DTSTART;TZID=America/New_York:20250109T173000
DTEND;TZID=America/New_York:20250109T183000
DTSTAMP:20260419T124258
CREATED:20241106T202450Z
LAST-MODIFIED:20241213T205218Z
UID:10000296-1736443800-1736447400@unfr.org
SUMMARY:Budgeting 101
DESCRIPTION:Join the Family Resource Center for this free workshop and learn what is a budget; how to define a budget; ideas about budgets; how to balance a checking account; and tips to save. For more information contact Cory Silva at 508-567-0735 or csilva@frfsa.org \nLearn more about the Family Resource Center here.
URL:https://unfr.org/event/budgeting-101/2025-01-09/
LOCATION:Family Resource Center\, 45 Rock Street\, Fall River\, MA\, 02720\, United States
ATTACH;FMTTYPE=image/jpeg:https://unfr.org/wp-content/uploads/2024/11/FRC-Budget-101.jpg
END:VEVENT
BEGIN:VEVENT
DTSTART;TZID=America/New_York:20250102T170000
DTEND;TZID=America/New_York:20250102T180000
DTSTAMP:20260419T124258
CREATED:20241106T202945Z
LAST-MODIFIED:20241213T205032Z
UID:10000284-1735837200-1735840800@unfr.org
SUMMARY:Housing 101
DESCRIPTION:Join the Family Resource Center for this free Housing 101 workshop. For more information contact Cory Silva at 508-567-1735 or csilva@frfsa.org. \nThe Family Resource Center works with parents\, children\, teens\, grandparents\, guardians\, caregivers and any other family member or member of the community who may be involved with the family. Staff at the FRC can assess the needs of the family members\, recommend services\, and help with access to other community services if needed. \nLearn more about the Family Resource Center here.
URL:https://unfr.org/event/housing-101/2025-01-02/
LOCATION:Family Resource Center\, 45 Rock Street\, Fall River\, MA\, 02720\, United States
ATTACH;FMTTYPE=image/jpeg:https://unfr.org/wp-content/uploads/2024/11/FRC-Housing-101.jpg
END:VEVENT
BEGIN:VEVENT
DTSTART;TZID=America/New_York:20240820T150000
DTEND;TZID=America/New_York:20240820T173000
DTSTAMP:20260419T124258
CREATED:20240807T193634Z
LAST-MODIFIED:20240807T193634Z
UID:10000163-1724166000-1724175000@unfr.org
SUMMARY:Back to School Ice Cream Social
DESCRIPTION:Get ready for back to school with the Family Resource Center (FRC)! Bring the youth in for a free ice cream treat and free *backpack (*while supplies last)! \nThe Family Resource Center is located at 45 Rock Street.
URL:https://unfr.org/event/back-to-school-ice-cream-social/
LOCATION:Family Resource Center\, 45 Rock Street\, Fall River\, MA\, 02720\, United States
ATTACH;FMTTYPE=image/jpeg:https://unfr.org/wp-content/uploads/2024/08/ice-cream-social.jpg
END:VEVENT
END:VCALENDAR