BEGIN:VCALENDAR
VERSION:2.0
PRODID:-//United Neighbors of Fall River - ECPv6.15.20//NONSGML v1.0//EN
CALSCALE:GREGORIAN
METHOD:PUBLISH
X-ORIGINAL-URL:https://unfr.org
X-WR-CALDESC:Events for United Neighbors of Fall River
REFRESH-INTERVAL;VALUE=DURATION:PT1H
X-Robots-Tag:noindex
X-PUBLISHED-TTL:PT1H
BEGIN:VTIMEZONE
TZID:America/New_York
BEGIN:DAYLIGHT
TZOFFSETFROM:-0500
TZOFFSETTO:-0400
TZNAME:EDT
DTSTART:20230312T070000
END:DAYLIGHT
BEGIN:STANDARD
TZOFFSETFROM:-0400
TZOFFSETTO:-0500
TZNAME:EST
DTSTART:20231105T060000
END:STANDARD
BEGIN:DAYLIGHT
TZOFFSETFROM:-0500
TZOFFSETTO:-0400
TZNAME:EDT
DTSTART:20240310T070000
END:DAYLIGHT
BEGIN:STANDARD
TZOFFSETFROM:-0400
TZOFFSETTO:-0500
TZNAME:EST
DTSTART:20241103T060000
END:STANDARD
BEGIN:DAYLIGHT
TZOFFSETFROM:-0500
TZOFFSETTO:-0400
TZNAME:EDT
DTSTART:20250309T070000
END:DAYLIGHT
BEGIN:STANDARD
TZOFFSETFROM:-0400
TZOFFSETTO:-0500
TZNAME:EST
DTSTART:20251102T060000
END:STANDARD
END:VTIMEZONE
BEGIN:VEVENT
DTSTART;TZID=America/New_York:20240612T140000
DTEND;TZID=America/New_York:20240612T170000
DTSTAMP:20260423T180847
CREATED:20240618T145845Z
LAST-MODIFIED:20240618T145845Z
UID:10000146-1718200800-1718211600@unfr.org
SUMMARY:HealthFirst Opening Market Day
DESCRIPTION:Come plant a zucchini with the mayor\, visit the bookmobile\, and shop the Fall River farmers market! Take your zucchini plant home and watch it grow. Everything for your plant will be supplied for free.
URL:https://unfr.org/event/healthfirst-opening-market-day/
LOCATION:HealthFirst\, 387 Quarry St.\, Fall River\, 02723
ATTACH;FMTTYPE=image/png:https://unfr.org/wp-content/uploads/2024/05/Fall-River-2.png
ORGANIZER;CN="Mass in Motion":MAILTO:asteele@fallriverma.gov
END:VEVENT
END:VCALENDAR