BEGIN:VCALENDAR
VERSION:2.0
PRODID:-//United Neighbors of Fall River - ECPv6.15.20//NONSGML v1.0//EN
CALSCALE:GREGORIAN
METHOD:PUBLISH
X-WR-CALNAME:United Neighbors of Fall River
X-ORIGINAL-URL:https://unfr.org
X-WR-CALDESC:Events for United Neighbors of Fall River
REFRESH-INTERVAL;VALUE=DURATION:PT1H
X-Robots-Tag:noindex
X-PUBLISHED-TTL:PT1H
BEGIN:VTIMEZONE
TZID:America/New_York
BEGIN:DAYLIGHT
TZOFFSETFROM:-0500
TZOFFSETTO:-0400
TZNAME:EDT
DTSTART:20230312T070000
END:DAYLIGHT
BEGIN:STANDARD
TZOFFSETFROM:-0400
TZOFFSETTO:-0500
TZNAME:EST
DTSTART:20231105T060000
END:STANDARD
BEGIN:DAYLIGHT
TZOFFSETFROM:-0500
TZOFFSETTO:-0400
TZNAME:EDT
DTSTART:20240310T070000
END:DAYLIGHT
BEGIN:STANDARD
TZOFFSETFROM:-0400
TZOFFSETTO:-0500
TZNAME:EST
DTSTART:20241103T060000
END:STANDARD
BEGIN:DAYLIGHT
TZOFFSETFROM:-0500
TZOFFSETTO:-0400
TZNAME:EDT
DTSTART:20250309T070000
END:DAYLIGHT
BEGIN:STANDARD
TZOFFSETFROM:-0400
TZOFFSETTO:-0500
TZNAME:EST
DTSTART:20251102T060000
END:STANDARD
BEGIN:DAYLIGHT
TZOFFSETFROM:-0500
TZOFFSETTO:-0400
TZNAME:EDT
DTSTART:20260308T070000
END:DAYLIGHT
BEGIN:STANDARD
TZOFFSETFROM:-0400
TZOFFSETTO:-0500
TZNAME:EST
DTSTART:20261101T060000
END:STANDARD
END:VTIMEZONE
BEGIN:VEVENT
DTSTART;TZID=America/New_York:20251002T170000
DTEND;TZID=America/New_York:20251002T180000
DTSTAMP:20260422T214033
CREATED:20241213T201643Z
LAST-MODIFIED:20241213T201643Z
UID:10000283-1759424400-1759428000@unfr.org
SUMMARY:Dual Anon
DESCRIPTION:Starting Thursday-January 2nd at 5pm-The Fall River/New Bedford RCC is pleased to announce the start of the Dual Anon program\nDual Anon is for families and friends who have a loved one struggling with a dual disorder (addictions + mental health struggles) \n“Dual Anon Family Groups exist to help family and friends of people who experience two no-fault diseases: chemical dependency and emotional or psychiatric illness. Families coping with these diseases often feel alone and uncertain. Often family members try to help in ways that end up making the situation worse; others give up; others don’t know what to do.\nDual Anon\, through weekly meetings\, provides a base of support and educational information. We share each other’s struggles and provide an atmosphere of care and understanding. We all know what it’s like to see our loved one fall apart and to wish we could hold him together with our two hands; then watch him fall apart anyway. We understand the chaos that addiction and emotional or psychiatric illness bring to families.” (Courtesy of dualanon.org)\nFor more information on the Dual Anon program\, click here https://dualanon.org/\nFor more information on the Fall River/New Bedford Recovery Connection Center\, click here https://www.southeastrlc.org/fall-river \nWe hope to “see” you soon via Zoom!
URL:https://unfr.org/event/dual-anon/2025-10-02/
LOCATION:Fall Recovery Connection Center\, 649 Bedford Street\, Fall River\, 02723
ATTACH;FMTTYPE=image/jpeg:https://unfr.org/wp-content/uploads/2024/12/dual-anon-500x360-1.jpg
ORGANIZER;CN="Fall River Recovery Connection Center (RCC)":MAILTO:coonanj@vinfen.org
END:VEVENT
BEGIN:VEVENT
DTSTART;TZID=America/New_York:20250904T170000
DTEND;TZID=America/New_York:20250904T180000
DTSTAMP:20260422T214033
CREATED:20241213T201643Z
LAST-MODIFIED:20241213T201643Z
UID:10000282-1757005200-1757008800@unfr.org
SUMMARY:Dual Anon
DESCRIPTION:Starting Thursday-January 2nd at 5pm-The Fall River/New Bedford RCC is pleased to announce the start of the Dual Anon program\nDual Anon is for families and friends who have a loved one struggling with a dual disorder (addictions + mental health struggles) \n“Dual Anon Family Groups exist to help family and friends of people who experience two no-fault diseases: chemical dependency and emotional or psychiatric illness. Families coping with these diseases often feel alone and uncertain. Often family members try to help in ways that end up making the situation worse; others give up; others don’t know what to do.\nDual Anon\, through weekly meetings\, provides a base of support and educational information. We share each other’s struggles and provide an atmosphere of care and understanding. We all know what it’s like to see our loved one fall apart and to wish we could hold him together with our two hands; then watch him fall apart anyway. We understand the chaos that addiction and emotional or psychiatric illness bring to families.” (Courtesy of dualanon.org)\nFor more information on the Dual Anon program\, click here https://dualanon.org/\nFor more information on the Fall River/New Bedford Recovery Connection Center\, click here https://www.southeastrlc.org/fall-river \nWe hope to “see” you soon via Zoom!
URL:https://unfr.org/event/dual-anon/2025-09-04/
LOCATION:Fall Recovery Connection Center\, 649 Bedford Street\, Fall River\, 02723
ATTACH;FMTTYPE=image/jpeg:https://unfr.org/wp-content/uploads/2024/12/dual-anon-500x360-1.jpg
ORGANIZER;CN="Fall River Recovery Connection Center (RCC)":MAILTO:coonanj@vinfen.org
END:VEVENT
BEGIN:VEVENT
DTSTART;TZID=America/New_York:20250807T170000
DTEND;TZID=America/New_York:20250807T180000
DTSTAMP:20260422T214033
CREATED:20241213T201643Z
LAST-MODIFIED:20241213T201643Z
UID:10000281-1754586000-1754589600@unfr.org
SUMMARY:Dual Anon
DESCRIPTION:Starting Thursday-January 2nd at 5pm-The Fall River/New Bedford RCC is pleased to announce the start of the Dual Anon program\nDual Anon is for families and friends who have a loved one struggling with a dual disorder (addictions + mental health struggles) \n“Dual Anon Family Groups exist to help family and friends of people who experience two no-fault diseases: chemical dependency and emotional or psychiatric illness. Families coping with these diseases often feel alone and uncertain. Often family members try to help in ways that end up making the situation worse; others give up; others don’t know what to do.\nDual Anon\, through weekly meetings\, provides a base of support and educational information. We share each other’s struggles and provide an atmosphere of care and understanding. We all know what it’s like to see our loved one fall apart and to wish we could hold him together with our two hands; then watch him fall apart anyway. We understand the chaos that addiction and emotional or psychiatric illness bring to families.” (Courtesy of dualanon.org)\nFor more information on the Dual Anon program\, click here https://dualanon.org/\nFor more information on the Fall River/New Bedford Recovery Connection Center\, click here https://www.southeastrlc.org/fall-river \nWe hope to “see” you soon via Zoom!
URL:https://unfr.org/event/dual-anon/2025-08-07/
LOCATION:Fall Recovery Connection Center\, 649 Bedford Street\, Fall River\, 02723
ATTACH;FMTTYPE=image/jpeg:https://unfr.org/wp-content/uploads/2024/12/dual-anon-500x360-1.jpg
ORGANIZER;CN="Fall River Recovery Connection Center (RCC)":MAILTO:coonanj@vinfen.org
END:VEVENT
BEGIN:VEVENT
DTSTART;TZID=America/New_York:20250703T170000
DTEND;TZID=America/New_York:20250703T180000
DTSTAMP:20260422T214033
CREATED:20241213T201643Z
LAST-MODIFIED:20241213T201643Z
UID:10000280-1751562000-1751565600@unfr.org
SUMMARY:Dual Anon
DESCRIPTION:Starting Thursday-January 2nd at 5pm-The Fall River/New Bedford RCC is pleased to announce the start of the Dual Anon program\nDual Anon is for families and friends who have a loved one struggling with a dual disorder (addictions + mental health struggles) \n“Dual Anon Family Groups exist to help family and friends of people who experience two no-fault diseases: chemical dependency and emotional or psychiatric illness. Families coping with these diseases often feel alone and uncertain. Often family members try to help in ways that end up making the situation worse; others give up; others don’t know what to do.\nDual Anon\, through weekly meetings\, provides a base of support and educational information. We share each other’s struggles and provide an atmosphere of care and understanding. We all know what it’s like to see our loved one fall apart and to wish we could hold him together with our two hands; then watch him fall apart anyway. We understand the chaos that addiction and emotional or psychiatric illness bring to families.” (Courtesy of dualanon.org)\nFor more information on the Dual Anon program\, click here https://dualanon.org/\nFor more information on the Fall River/New Bedford Recovery Connection Center\, click here https://www.southeastrlc.org/fall-river \nWe hope to “see” you soon via Zoom!
URL:https://unfr.org/event/dual-anon/2025-07-03/
LOCATION:Fall Recovery Connection Center\, 649 Bedford Street\, Fall River\, 02723
ATTACH;FMTTYPE=image/jpeg:https://unfr.org/wp-content/uploads/2024/12/dual-anon-500x360-1.jpg
ORGANIZER;CN="Fall River Recovery Connection Center (RCC)":MAILTO:coonanj@vinfen.org
END:VEVENT
BEGIN:VEVENT
DTSTART;TZID=America/New_York:20250605T170000
DTEND;TZID=America/New_York:20250605T180000
DTSTAMP:20260422T214033
CREATED:20241213T201643Z
LAST-MODIFIED:20241213T201643Z
UID:10000279-1749142800-1749146400@unfr.org
SUMMARY:Dual Anon
DESCRIPTION:Starting Thursday-January 2nd at 5pm-The Fall River/New Bedford RCC is pleased to announce the start of the Dual Anon program\nDual Anon is for families and friends who have a loved one struggling with a dual disorder (addictions + mental health struggles) \n“Dual Anon Family Groups exist to help family and friends of people who experience two no-fault diseases: chemical dependency and emotional or psychiatric illness. Families coping with these diseases often feel alone and uncertain. Often family members try to help in ways that end up making the situation worse; others give up; others don’t know what to do.\nDual Anon\, through weekly meetings\, provides a base of support and educational information. We share each other’s struggles and provide an atmosphere of care and understanding. We all know what it’s like to see our loved one fall apart and to wish we could hold him together with our two hands; then watch him fall apart anyway. We understand the chaos that addiction and emotional or psychiatric illness bring to families.” (Courtesy of dualanon.org)\nFor more information on the Dual Anon program\, click here https://dualanon.org/\nFor more information on the Fall River/New Bedford Recovery Connection Center\, click here https://www.southeastrlc.org/fall-river \nWe hope to “see” you soon via Zoom!
URL:https://unfr.org/event/dual-anon/2025-06-05/
LOCATION:Fall Recovery Connection Center\, 649 Bedford Street\, Fall River\, 02723
ATTACH;FMTTYPE=image/jpeg:https://unfr.org/wp-content/uploads/2024/12/dual-anon-500x360-1.jpg
ORGANIZER;CN="Fall River Recovery Connection Center (RCC)":MAILTO:coonanj@vinfen.org
END:VEVENT
BEGIN:VEVENT
DTSTART;TZID=America/New_York:20250501T170000
DTEND;TZID=America/New_York:20250501T180000
DTSTAMP:20260422T214033
CREATED:20241213T201643Z
LAST-MODIFIED:20241213T201643Z
UID:10000278-1746118800-1746122400@unfr.org
SUMMARY:Dual Anon
DESCRIPTION:Starting Thursday-January 2nd at 5pm-The Fall River/New Bedford RCC is pleased to announce the start of the Dual Anon program\nDual Anon is for families and friends who have a loved one struggling with a dual disorder (addictions + mental health struggles) \n“Dual Anon Family Groups exist to help family and friends of people who experience two no-fault diseases: chemical dependency and emotional or psychiatric illness. Families coping with these diseases often feel alone and uncertain. Often family members try to help in ways that end up making the situation worse; others give up; others don’t know what to do.\nDual Anon\, through weekly meetings\, provides a base of support and educational information. We share each other’s struggles and provide an atmosphere of care and understanding. We all know what it’s like to see our loved one fall apart and to wish we could hold him together with our two hands; then watch him fall apart anyway. We understand the chaos that addiction and emotional or psychiatric illness bring to families.” (Courtesy of dualanon.org)\nFor more information on the Dual Anon program\, click here https://dualanon.org/\nFor more information on the Fall River/New Bedford Recovery Connection Center\, click here https://www.southeastrlc.org/fall-river \nWe hope to “see” you soon via Zoom!
URL:https://unfr.org/event/dual-anon/2025-05-01/
LOCATION:Fall Recovery Connection Center\, 649 Bedford Street\, Fall River\, 02723
ATTACH;FMTTYPE=image/jpeg:https://unfr.org/wp-content/uploads/2024/12/dual-anon-500x360-1.jpg
ORGANIZER;CN="Fall River Recovery Connection Center (RCC)":MAILTO:coonanj@vinfen.org
END:VEVENT
BEGIN:VEVENT
DTSTART;TZID=America/New_York:20250403T170000
DTEND;TZID=America/New_York:20250403T180000
DTSTAMP:20260422T214033
CREATED:20241213T201643Z
LAST-MODIFIED:20241213T201643Z
UID:10000277-1743699600-1743703200@unfr.org
SUMMARY:Dual Anon
DESCRIPTION:Starting Thursday-January 2nd at 5pm-The Fall River/New Bedford RCC is pleased to announce the start of the Dual Anon program\nDual Anon is for families and friends who have a loved one struggling with a dual disorder (addictions + mental health struggles) \n“Dual Anon Family Groups exist to help family and friends of people who experience two no-fault diseases: chemical dependency and emotional or psychiatric illness. Families coping with these diseases often feel alone and uncertain. Often family members try to help in ways that end up making the situation worse; others give up; others don’t know what to do.\nDual Anon\, through weekly meetings\, provides a base of support and educational information. We share each other’s struggles and provide an atmosphere of care and understanding. We all know what it’s like to see our loved one fall apart and to wish we could hold him together with our two hands; then watch him fall apart anyway. We understand the chaos that addiction and emotional or psychiatric illness bring to families.” (Courtesy of dualanon.org)\nFor more information on the Dual Anon program\, click here https://dualanon.org/\nFor more information on the Fall River/New Bedford Recovery Connection Center\, click here https://www.southeastrlc.org/fall-river \nWe hope to “see” you soon via Zoom!
URL:https://unfr.org/event/dual-anon/2025-04-03/
LOCATION:Fall Recovery Connection Center\, 649 Bedford Street\, Fall River\, 02723
ATTACH;FMTTYPE=image/jpeg:https://unfr.org/wp-content/uploads/2024/12/dual-anon-500x360-1.jpg
ORGANIZER;CN="Fall River Recovery Connection Center (RCC)":MAILTO:coonanj@vinfen.org
END:VEVENT
BEGIN:VEVENT
DTSTART;TZID=America/New_York:20250306T170000
DTEND;TZID=America/New_York:20250306T180000
DTSTAMP:20260422T214033
CREATED:20241213T201643Z
LAST-MODIFIED:20241213T201643Z
UID:10000276-1741280400-1741284000@unfr.org
SUMMARY:Dual Anon
DESCRIPTION:Starting Thursday-January 2nd at 5pm-The Fall River/New Bedford RCC is pleased to announce the start of the Dual Anon program\nDual Anon is for families and friends who have a loved one struggling with a dual disorder (addictions + mental health struggles) \n“Dual Anon Family Groups exist to help family and friends of people who experience two no-fault diseases: chemical dependency and emotional or psychiatric illness. Families coping with these diseases often feel alone and uncertain. Often family members try to help in ways that end up making the situation worse; others give up; others don’t know what to do.\nDual Anon\, through weekly meetings\, provides a base of support and educational information. We share each other’s struggles and provide an atmosphere of care and understanding. We all know what it’s like to see our loved one fall apart and to wish we could hold him together with our two hands; then watch him fall apart anyway. We understand the chaos that addiction and emotional or psychiatric illness bring to families.” (Courtesy of dualanon.org)\nFor more information on the Dual Anon program\, click here https://dualanon.org/\nFor more information on the Fall River/New Bedford Recovery Connection Center\, click here https://www.southeastrlc.org/fall-river \nWe hope to “see” you soon via Zoom!
URL:https://unfr.org/event/dual-anon/2025-03-06/
LOCATION:Fall Recovery Connection Center\, 649 Bedford Street\, Fall River\, 02723
ATTACH;FMTTYPE=image/jpeg:https://unfr.org/wp-content/uploads/2024/12/dual-anon-500x360-1.jpg
ORGANIZER;CN="Fall River Recovery Connection Center (RCC)":MAILTO:coonanj@vinfen.org
END:VEVENT
BEGIN:VEVENT
DTSTART;TZID=America/New_York:20250206T170000
DTEND;TZID=America/New_York:20250206T180000
DTSTAMP:20260422T214033
CREATED:20241213T201643Z
LAST-MODIFIED:20241213T201643Z
UID:10000275-1738861200-1738864800@unfr.org
SUMMARY:Dual Anon
DESCRIPTION:Starting Thursday-January 2nd at 5pm-The Fall River/New Bedford RCC is pleased to announce the start of the Dual Anon program\nDual Anon is for families and friends who have a loved one struggling with a dual disorder (addictions + mental health struggles) \n“Dual Anon Family Groups exist to help family and friends of people who experience two no-fault diseases: chemical dependency and emotional or psychiatric illness. Families coping with these diseases often feel alone and uncertain. Often family members try to help in ways that end up making the situation worse; others give up; others don’t know what to do.\nDual Anon\, through weekly meetings\, provides a base of support and educational information. We share each other’s struggles and provide an atmosphere of care and understanding. We all know what it’s like to see our loved one fall apart and to wish we could hold him together with our two hands; then watch him fall apart anyway. We understand the chaos that addiction and emotional or psychiatric illness bring to families.” (Courtesy of dualanon.org)\nFor more information on the Dual Anon program\, click here https://dualanon.org/\nFor more information on the Fall River/New Bedford Recovery Connection Center\, click here https://www.southeastrlc.org/fall-river \nWe hope to “see” you soon via Zoom!
URL:https://unfr.org/event/dual-anon/2025-02-06/
LOCATION:Fall Recovery Connection Center\, 649 Bedford Street\, Fall River\, 02723
ATTACH;FMTTYPE=image/jpeg:https://unfr.org/wp-content/uploads/2024/12/dual-anon-500x360-1.jpg
ORGANIZER;CN="Fall River Recovery Connection Center (RCC)":MAILTO:coonanj@vinfen.org
END:VEVENT
BEGIN:VEVENT
DTSTART;TZID=America/New_York:20250102T170000
DTEND;TZID=America/New_York:20250102T180000
DTSTAMP:20260422T214033
CREATED:20241213T201643Z
LAST-MODIFIED:20241213T201643Z
UID:10000274-1735837200-1735840800@unfr.org
SUMMARY:Dual Anon
DESCRIPTION:Starting Thursday-January 2nd at 5pm-The Fall River/New Bedford RCC is pleased to announce the start of the Dual Anon program\nDual Anon is for families and friends who have a loved one struggling with a dual disorder (addictions + mental health struggles) \n“Dual Anon Family Groups exist to help family and friends of people who experience two no-fault diseases: chemical dependency and emotional or psychiatric illness. Families coping with these diseases often feel alone and uncertain. Often family members try to help in ways that end up making the situation worse; others give up; others don’t know what to do.\nDual Anon\, through weekly meetings\, provides a base of support and educational information. We share each other’s struggles and provide an atmosphere of care and understanding. We all know what it’s like to see our loved one fall apart and to wish we could hold him together with our two hands; then watch him fall apart anyway. We understand the chaos that addiction and emotional or psychiatric illness bring to families.” (Courtesy of dualanon.org)\nFor more information on the Dual Anon program\, click here https://dualanon.org/\nFor more information on the Fall River/New Bedford Recovery Connection Center\, click here https://www.southeastrlc.org/fall-river \nWe hope to “see” you soon via Zoom!
URL:https://unfr.org/event/dual-anon/2025-01-02/
LOCATION:Fall Recovery Connection Center\, 649 Bedford Street\, Fall River\, 02723
ATTACH;FMTTYPE=image/jpeg:https://unfr.org/wp-content/uploads/2024/12/dual-anon-500x360-1.jpg
ORGANIZER;CN="Fall River Recovery Connection Center (RCC)":MAILTO:coonanj@vinfen.org
END:VEVENT
BEGIN:VEVENT
DTSTART;TZID=America/New_York:20240903T100000
DTEND;TZID=America/New_York:20240924T113000
DTSTAMP:20260422T214033
CREATED:20240916T150342Z
LAST-MODIFIED:20240916T150342Z
UID:10000199-1725357600-1727177400@unfr.org
SUMMARY:Grief Healing Class
DESCRIPTION:Have you experienced a loss of anyone or anything?\nDo you need support from others like yourself to help you in your healing journey?\nPlease join your fellow peers at the Fall River Recovery Connection Center (RCC) on Tuesday Mornings in a healing environment\nFacilitated by Blanca Garcia
URL:https://unfr.org/event/grief-healing-class/
LOCATION:Fall Recovery Connection Center\, 649 Bedford Street\, Fall River\, 02723
ATTACH;FMTTYPE=image/jpeg:https://unfr.org/wp-content/uploads/2024/09/grief-pic-scaled.jpg
END:VEVENT
END:VCALENDAR